BEGIN:VCALENDAR
VERSION:2.0
PRODID:-//Golf- und Land-Club St. Lorenz in Schöningen - ECPv6.15.20//NONSGML v1.0//EN
CALSCALE:GREGORIAN
METHOD:PUBLISH
X-ORIGINAL-URL:https://www.stlorenz-golf.de
X-WR-CALDESC:Veranstaltungen für Golf- und Land-Club St. Lorenz in Schöningen
REFRESH-INTERVAL;VALUE=DURATION:PT1H
X-Robots-Tag:noindex
X-PUBLISHED-TTL:PT1H
BEGIN:VTIMEZONE
TZID:Europe/Berlin
BEGIN:DAYLIGHT
TZOFFSETFROM:+0100
TZOFFSETTO:+0200
TZNAME:CEST
DTSTART:20240331T010000
END:DAYLIGHT
BEGIN:STANDARD
TZOFFSETFROM:+0200
TZOFFSETTO:+0100
TZNAME:CET
DTSTART:20241027T010000
END:STANDARD
BEGIN:DAYLIGHT
TZOFFSETFROM:+0100
TZOFFSETTO:+0200
TZNAME:CEST
DTSTART:20250330T010000
END:DAYLIGHT
BEGIN:STANDARD
TZOFFSETFROM:+0200
TZOFFSETTO:+0100
TZNAME:CET
DTSTART:20251026T010000
END:STANDARD
BEGIN:DAYLIGHT
TZOFFSETFROM:+0100
TZOFFSETTO:+0200
TZNAME:CEST
DTSTART:20260329T010000
END:DAYLIGHT
BEGIN:STANDARD
TZOFFSETFROM:+0200
TZOFFSETTO:+0100
TZNAME:CET
DTSTART:20261025T010000
END:STANDARD
END:VTIMEZONE
BEGIN:VEVENT
DTSTART;TZID=Europe/Berlin:20250726T090000
DTEND;TZID=Europe/Berlin:20250726T160000
DTSTAMP:20260422T104737
CREATED:20250213T210205Z
LAST-MODIFIED:20250215T183124Z
UID:5813-1753520400-1753545600@www.stlorenz-golf.de
SUMMARY:Samsonite Golf Club Tour
DESCRIPTION:Spielform: Stableford \n\nAnmeldung für interne Wettspiele über PC-Caddie oder das Club-Büro. Ausschreibungen für die Wettspiele sind im Eingangsbereich des Clubhauses einzusehen.\nStartzeiten ohne Gewähr\, diese können sich noch kurzfristig ändern. Bitte beachten Sie das schwarze Brett und/oder Informationen in PC-Caddie.
URL:https://www.stlorenz-golf.de/termin/samsonite-golf-club-tour-3/
CATEGORIES:Turnierplan
END:VEVENT
END:VCALENDAR