BEGIN:VCALENDAR
VERSION:2.0
PRODID:-//Golf- und Land-Club St. Lorenz in Schöningen - ECPv6.15.20//NONSGML v1.0//EN
CALSCALE:GREGORIAN
METHOD:PUBLISH
X-WR-CALNAME:Golf- und Land-Club St. Lorenz in Schöningen
X-ORIGINAL-URL:https://www.stlorenz-golf.de
X-WR-CALDESC:Veranstaltungen für Golf- und Land-Club St. Lorenz in Schöningen
REFRESH-INTERVAL;VALUE=DURATION:PT1H
X-Robots-Tag:noindex
X-PUBLISHED-TTL:PT1H
BEGIN:VTIMEZONE
TZID:Europe/Berlin
BEGIN:DAYLIGHT
TZOFFSETFROM:+0100
TZOFFSETTO:+0200
TZNAME:CEST
DTSTART:20240331T010000
END:DAYLIGHT
BEGIN:STANDARD
TZOFFSETFROM:+0200
TZOFFSETTO:+0100
TZNAME:CET
DTSTART:20241027T010000
END:STANDARD
BEGIN:DAYLIGHT
TZOFFSETFROM:+0100
TZOFFSETTO:+0200
TZNAME:CEST
DTSTART:20250330T010000
END:DAYLIGHT
BEGIN:STANDARD
TZOFFSETFROM:+0200
TZOFFSETTO:+0100
TZNAME:CET
DTSTART:20251026T010000
END:STANDARD
BEGIN:DAYLIGHT
TZOFFSETFROM:+0100
TZOFFSETTO:+0200
TZNAME:CEST
DTSTART:20260329T010000
END:DAYLIGHT
BEGIN:STANDARD
TZOFFSETFROM:+0200
TZOFFSETTO:+0100
TZNAME:CET
DTSTART:20261025T010000
END:STANDARD
END:VTIMEZONE
BEGIN:VEVENT
DTSTART;TZID=Europe/Berlin:20250823T090000
DTEND;TZID=Europe/Berlin:20250823T160000
DTSTAMP:20260425T194322
CREATED:20250213T210459Z
LAST-MODIFIED:20250215T061020Z
UID:5821-1755939600-1755964800@www.stlorenz-golf.de
SUMMARY:Golfhotel Fahrenbach Trophy
DESCRIPTION:
URL:https://www.stlorenz-golf.de/termin/golfhotel-fahrenbach-trophy-2/
CATEGORIES:Turnierplan
END:VEVENT
END:VCALENDAR