BEGIN:VCALENDAR
VERSION:2.0
PRODID:-//Golf- und Land-Club St. Lorenz in Schöningen - ECPv6.15.20//NONSGML v1.0//EN
CALSCALE:GREGORIAN
METHOD:PUBLISH
X-ORIGINAL-URL:https://www.stlorenz-golf.de
X-WR-CALDESC:Veranstaltungen für Golf- und Land-Club St. Lorenz in Schöningen
REFRESH-INTERVAL;VALUE=DURATION:PT1H
X-Robots-Tag:noindex
X-PUBLISHED-TTL:PT1H
BEGIN:VTIMEZONE
TZID:Europe/Berlin
BEGIN:DAYLIGHT
TZOFFSETFROM:+0100
TZOFFSETTO:+0200
TZNAME:CEST
DTSTART:20240331T010000
END:DAYLIGHT
BEGIN:STANDARD
TZOFFSETFROM:+0200
TZOFFSETTO:+0100
TZNAME:CET
DTSTART:20241027T010000
END:STANDARD
BEGIN:DAYLIGHT
TZOFFSETFROM:+0100
TZOFFSETTO:+0200
TZNAME:CEST
DTSTART:20250330T010000
END:DAYLIGHT
BEGIN:STANDARD
TZOFFSETFROM:+0200
TZOFFSETTO:+0100
TZNAME:CET
DTSTART:20251026T010000
END:STANDARD
BEGIN:DAYLIGHT
TZOFFSETFROM:+0100
TZOFFSETTO:+0200
TZNAME:CEST
DTSTART:20260329T010000
END:DAYLIGHT
BEGIN:STANDARD
TZOFFSETFROM:+0200
TZOFFSETTO:+0100
TZNAME:CET
DTSTART:20261025T010000
END:STANDARD
END:VTIMEZONE
BEGIN:VEVENT
DTSTART;TZID=Europe/Berlin:20251118T123000
DTEND;TZID=Europe/Berlin:20251118T153000
DTSTAMP:20260422T032127
CREATED:20250603T190139Z
LAST-MODIFIED:20250603T190139Z
UID:6125-1763469000-1763479800@www.stlorenz-golf.de
SUMMARY:DiDaGo Eclectic Runde III
DESCRIPTION:Anmeldung bis Montag\, 17. November 2025 18:00 Uhr bei den Ladies Captains möglich! \n\nSinia Thieme-Pasos 01704806721 \n\n\nFranziska Innerling 017656834947 \n\nErika Exner 015111609574
URL:https://www.stlorenz-golf.de/termin/didago-eclectic-runde-iii/
CATEGORIES:Turnierplan
END:VEVENT
END:VCALENDAR