BEGIN:VCALENDAR
VERSION:2.0
PRODID:-//Golf- und Land-Club St. Lorenz in Schöningen - ECPv6.15.20//NONSGML v1.0//EN
CALSCALE:GREGORIAN
METHOD:PUBLISH
X-ORIGINAL-URL:https://www.stlorenz-golf.de
X-WR-CALDESC:Veranstaltungen für Golf- und Land-Club St. Lorenz in Schöningen
REFRESH-INTERVAL;VALUE=DURATION:PT1H
X-Robots-Tag:noindex
X-PUBLISHED-TTL:PT1H
BEGIN:VTIMEZONE
TZID:Europe/Berlin
BEGIN:DAYLIGHT
TZOFFSETFROM:+0100
TZOFFSETTO:+0200
TZNAME:CEST
DTSTART:20240331T010000
END:DAYLIGHT
BEGIN:STANDARD
TZOFFSETFROM:+0200
TZOFFSETTO:+0100
TZNAME:CET
DTSTART:20241027T010000
END:STANDARD
BEGIN:DAYLIGHT
TZOFFSETFROM:+0100
TZOFFSETTO:+0200
TZNAME:CEST
DTSTART:20250330T010000
END:DAYLIGHT
BEGIN:STANDARD
TZOFFSETFROM:+0200
TZOFFSETTO:+0100
TZNAME:CET
DTSTART:20251026T010000
END:STANDARD
BEGIN:DAYLIGHT
TZOFFSETFROM:+0100
TZOFFSETTO:+0200
TZNAME:CEST
DTSTART:20260329T010000
END:DAYLIGHT
BEGIN:STANDARD
TZOFFSETFROM:+0200
TZOFFSETTO:+0100
TZNAME:CET
DTSTART:20261025T010000
END:STANDARD
END:VTIMEZONE
BEGIN:VEVENT
DTSTART;TZID=Europe/Berlin:20251202T123000
DTEND;TZID=Europe/Berlin:20251202T153000
DTSTAMP:20260421T030529
CREATED:20250603T190458Z
LAST-MODIFIED:20250603T190458Z
UID:6129-1764678600-1764689400@www.stlorenz-golf.de
SUMMARY:DiDaGo Eclectic-Runde V
DESCRIPTION:Anmeldung bis Montag\, 01. Dezember 2025 18:00 Uhr bei den Ladies Captains möglich! \n\nSinia Thieme-Pasos 01704806721 \n\n\nFranziska Innerling 017656834947 \n\nErika Exner 015111609574
URL:https://www.stlorenz-golf.de/termin/didago-eclectic-runde-v/
CATEGORIES:Turnierplan
END:VEVENT
BEGIN:VEVENT
DTSTART;TZID=Europe/Berlin:20251209T123000
DTEND;TZID=Europe/Berlin:20251209T153000
DTSTAMP:20260421T030529
CREATED:20250603T190553Z
LAST-MODIFIED:20250603T190553Z
UID:6131-1765283400-1765294200@www.stlorenz-golf.de
SUMMARY:DiDaGo Eclectic-Runde VI
DESCRIPTION:Anmeldung bis Montag\, 08. Dezember 2025 18:00 Uhr bei den Ladies Captains möglich! \n\nSinia Thieme-Pasos 01704806721 \n\n\nFranziska Innerling 017656834947 \n\nErika Exner 015111609574
URL:https://www.stlorenz-golf.de/termin/didago-eclectic-runde-vi/
CATEGORIES:Turnierplan
END:VEVENT
BEGIN:VEVENT
DTSTART;TZID=Europe/Berlin:20251216T123000
DTEND;TZID=Europe/Berlin:20251216T153000
DTSTAMP:20260421T030529
CREATED:20250603T190723Z
LAST-MODIFIED:20250603T190723Z
UID:6133-1765888200-1765899000@www.stlorenz-golf.de
SUMMARY:DiDaGo Eclectic-Runde VII
DESCRIPTION:Anmeldung bis Montag\, 15. Dezember 2025 18:00 Uhr bei den Ladies Captains möglich! \n\nSinia Thieme-Pasos 01704806721 \n\n\nFranziska Innerling 017656834947 \n\nErika Exner 015111609574
URL:https://www.stlorenz-golf.de/termin/didago-eclectic-runde-vii/
CATEGORIES:Turnierplan
END:VEVENT
BEGIN:VEVENT
DTSTART;TZID=Europe/Berlin:20251223T123000
DTEND;TZID=Europe/Berlin:20251223T153000
DTSTAMP:20260421T030529
CREATED:20250603T190831Z
LAST-MODIFIED:20250603T190831Z
UID:6135-1766493000-1766503800@www.stlorenz-golf.de
SUMMARY:DiDaGo Eclectic-Runde VIII
DESCRIPTION:Anmeldung bis Montag\, 22. Dezember 2025 18:00 Uhr bei den Ladies Captains möglich! \n\nSinia Thieme-Pasos 01704806721 \n\n\nFranziska Innerling 017656834947 \n\nErika Exner 015111609574
URL:https://www.stlorenz-golf.de/termin/didago-eclectic-runde-viii/
CATEGORIES:Turnierplan
END:VEVENT
END:VCALENDAR